BEGIN:VCALENDAR
VERSION:2.0
PRODID:-//Weekly Quiz - ECPv4.6.23//NONSGML v1.0//EN
CALSCALE:GREGORIAN
METHOD:PUBLISH
X-WR-CALNAME:Weekly Quiz
X-ORIGINAL-URL:https://www.weeklyquiz.co.uk
X-WR-CALDESC:Events for Weekly Quiz
BEGIN:VEVENT
DTSTART;TZID=Europe/London:20250703T190000
DTEND;TZID=Europe/London:20250703T210000
DTSTAMP:20260423T090140
CREATED:20250630T203515Z
LAST-MODIFIED:20250630T203515Z
UID:97597-1751569200-1751576400@www.weeklyquiz.co.uk
SUMMARY:The Water's Edge
DESCRIPTION:About the Waters Edge\, Nottingham\nJoin us at the Waters Edge in Nottingham for EPIC pub food at EPIC prices! Perched on the southern bank of the Nottingham Canal\, our family-friendly pub restaurant is a stroll away from the city centre and Nottingham Castle. Whether you’re soaking up views of the water from our idyllic beer garden or keeping an eye on the kids as they have fun in our outdoor play area\, we make for the perfect spot for pub food and drinks. Sink your teeth into stacked burgers\, huge sharers and classic fish & chips as you delight in our wide selection of beers. Not to mention\, unmissable deals every day of the week! When there’s a big game on\, join us and watch live sports on our Sky Sports and TNT Sports screens. We’ve got you covered with free Wi-Fi\, disabled facilities and a spacious car park with EV charging. \n
URL:https://www.weeklyquiz.co.uk/event/the-waters-edge/2025-07-03/
LOCATION:The Water’s Edge\, 3 Castle Bridge Road\, Nottingham\, NG7 1GX\, United Kingdom
GEO:52.9460423;-1.1692503
X-APPLE-STRUCTURED-LOCATION;VALUE=URI;X-ADDRESS=The Water’s Edge 3 Castle Bridge Road Nottingham NG7 1GX United Kingdom;X-APPLE-RADIUS=500;X-TITLE=3 Castle Bridge Road:geo:-1.1692503,52.9460423
CATEGORIES:Thursday Night Pub Quiz
ATTACH;FMTTYPE=image/jpeg:https://www.weeklyquiz.co.uk/wp-content/uploads/2025/06/waters-edge.jpg
END:VEVENT
END:VCALENDAR