BEGIN:VCALENDAR
VERSION:2.0
PRODID:-//Weekly Quiz - ECPv4.6.23//NONSGML v1.0//EN
CALSCALE:GREGORIAN
METHOD:PUBLISH
X-WR-CALNAME:Weekly Quiz
X-ORIGINAL-URL:https://www.weeklyquiz.co.uk
X-WR-CALDESC:Events for Weekly Quiz
BEGIN:VEVENT
DTSTART;TZID=Europe/London:20260610T190000
DTEND;TZID=Europe/London:20260610T210000
DTSTAMP:20260422T124004
CREATED:20250517T224148Z
LAST-MODIFIED:20250517T224148Z
UID:104013-1781118000-1781125200@www.weeklyquiz.co.uk
SUMMARY:The Red Lion
DESCRIPTION:\nThe Red Lion\, Earlswood\, a country pub in Solihull\n\n\n\nWe’ve got everything you need from a country pub near you.\nLooking for a dog friendly pub? Look no further than our Dog friendly pub finder tool! \n\n\n\n\nThe Red Lion dates back to the eighteenth century\, when we offered “pony and traps to hire along with good stabling”. Today the service at The Red Lion is slightly different\, we offer a warm and relaxed atmosphere in an idyllic setting in the Warwickshire countryside\, although we still welcome guests from all around the area. \n\n\n\n\nOur menus are full of hearty favourites and country pub classics\, as well as our seasonal dishes\, and we’ll be ready with a well-stocked bar\, including cask ales\, fine wines and British gin to suit very taste – which will taste all the better when enjoyed either in our beautiful gardens or by our crackling log fires. \nThe amazing Martin will take care of all your quizzing needs every other Wednesday. \n\n\n
URL:https://www.weeklyquiz.co.uk/event/the-red-lion/2026-06-10/
LOCATION:The Red Lion\, Lady Lane\, Earlswood\, Solihull\, B94 6AQ\, United Kingdom
GEO:52.3689692;-1.8382283
X-APPLE-STRUCTURED-LOCATION;VALUE=URI;X-ADDRESS=The Red Lion Lady Lane Earlswood Solihull B94 6AQ United Kingdom;X-APPLE-RADIUS=500;X-TITLE=Lady Lane:geo:-1.8382283,52.3689692
CATEGORIES:Wednesday Night Pub Quiz
ATTACH;FMTTYPE=image/jpeg:https://www.weeklyquiz.co.uk/wp-content/uploads/2025/05/red-lion.jpg
END:VEVENT
END:VCALENDAR