BEGIN:VCALENDAR
VERSION:2.0
PRODID:-//Weekly Quiz - ECPv4.6.23//NONSGML v1.0//EN
CALSCALE:GREGORIAN
METHOD:PUBLISH
X-WR-CALNAME:Weekly Quiz
X-ORIGINAL-URL:https://www.weeklyquiz.co.uk
X-WR-CALDESC:Events for Weekly Quiz
BEGIN:VEVENT
DTSTART;TZID=Europe/London:20260616T190000
DTEND;TZID=Europe/London:20260616T210000
DTSTAMP:20260420T155030
CREATED:20250502T061339Z
LAST-MODIFIED:20250502T061339Z
UID:104112-1781636400-1781643600@www.weeklyquiz.co.uk
SUMMARY:The Railway Tavern N16
DESCRIPTION:There is a pub on the corner of St Jude Street and King Henry’s Walk in Dalston where the tracks touch and overlap. \nWhere travel is more than just a journey. It is a destination. \nWhere the pizza is absolutely delicious. \nWhere they serve pints and bites late into the night. \nWhere all are welcome \nWhere you can show off your trivia prowess in our Pub Quiz every Tuesday at 7.00pm hosted by the incredible Marysia. \n
URL:https://www.weeklyquiz.co.uk/event/the-railway-tavern-n16/2026-06-16/
LOCATION:The Railway Tavern N16\, 2 St Jude Street\, London\, N16 8JT\, United Kingdom
GEO:51.5487204;-0.1617065
X-APPLE-STRUCTURED-LOCATION;VALUE=URI;X-ADDRESS=The Railway Tavern N16 2 St Jude Street London N16 8JT United Kingdom;X-APPLE-RADIUS=500;X-TITLE=2 St Jude Street:geo:-0.1617065,51.5487204
CATEGORIES:Tuesday Night Pub Quiz
ATTACH;FMTTYPE=image/jpeg:https://www.weeklyquiz.co.uk/wp-content/uploads/2025/05/railway-tavern.jpg
END:VEVENT
END:VCALENDAR