BEGIN:VCALENDAR
VERSION:2.0
PRODID:-//Weekly Quiz - ECPv4.6.23//NONSGML v1.0//EN
CALSCALE:GREGORIAN
METHOD:PUBLISH
X-WR-CALNAME:Weekly Quiz
X-ORIGINAL-URL:https://www.weeklyquiz.co.uk
X-WR-CALDESC:Events for Weekly Quiz
BEGIN:VEVENT
DTSTART;TZID=Europe/London:20250604T193000
DTEND;TZID=Europe/London:20250604T213000
DTSTAMP:20260421T083020
CREATED:20250525T115151Z
LAST-MODIFIED:20250525T115316Z
UID:96259-1749065400-1749072600@www.weeklyquiz.co.uk
SUMMARY:The Outhouse Brewery
DESCRIPTION:\n\n\n\nWOKINGHAM’S ONLY BREW PUB \nThe Outhouse Brewery\, opened in 2021\, is the only brew house in Wokingham town since the closure of the old Wellington Brewery in 1921. \nOur motto is\, CRAFTED WITHOUT COMPROMISE; we strive to produce fresh beer with uncompromised ingredients\, whilst offering the highest customer experience to our brew house visitors. \nOur beer is all about being FRESH and we promise two things: \nOur beer is NOT FILTERED \nOur beer is NOT PASTEURISED \nWe love to taste the hops and grains as they should taste. \nVisit our brew pub in Wokingham to try unique\, fresh craft beers from our own range and those of carefully selected partners. We look forward to welcoming you! \n\nEvery other Wednesday is quiz night – a real must not miss event that can be very popular \n\n\n\n
URL:https://www.weeklyquiz.co.uk/event/the-outhouse-brewery/2025-06-04/
LOCATION:The Outhouse Brewery\, Unit 4\, Southgate House\, Alexandra Court\, Wokingham\, RG40 2SL\, United Kingdom
GEO:51.4093129;-0.8385728
X-APPLE-STRUCTURED-LOCATION;VALUE=URI;X-ADDRESS=The Outhouse Brewery Unit 4 Southgate House Alexandra Court Wokingham RG40 2SL United Kingdom;X-APPLE-RADIUS=500;X-TITLE=Unit 4\, Southgate House\, Alexandra Court:geo:-0.8385728,51.4093129
CATEGORIES:Wednesday Night Pub Quiz
ATTACH;FMTTYPE=image/jpeg:https://www.weeklyquiz.co.uk/wp-content/uploads/2025/05/outhouse.jpg
END:VEVENT
END:VCALENDAR