BEGIN:VCALENDAR
VERSION:2.0
PRODID:-//Weekly Quiz - ECPv4.6.23//NONSGML v1.0//EN
CALSCALE:GREGORIAN
METHOD:PUBLISH
X-WR-CALNAME:Weekly Quiz
X-ORIGINAL-URL:https://www.weeklyquiz.co.uk
X-WR-CALDESC:Events for Weekly Quiz
BEGIN:VEVENT
DTSTART;TZID=Europe/London:20260430T190000
DTEND;TZID=Europe/London:20260430T210000
DTSTAMP:20260423T090105
CREATED:20250624T143415Z
LAST-MODIFIED:20250624T143415Z
UID:103146-1777575600-1777582800@www.weeklyquiz.co.uk
SUMMARY:The Hanbury
DESCRIPTION:Proud of tradition\nA pub etched into local life\nWelcome to The Hanbury\, your friendly neighbourhood hub where time-honored traditions meet top-notch quality. More than a pub\, The Hanbury captures the essence of a true local spot\, serving up hearty grub\, great pints\, and a community vibe that resonates through the cobbled streets. From weekly live tunes and lively sports viewings to brain-teasing quiz nights and soul-soothing traditional music sessions\, we’re all about keeping it real. \nWhether it’s your first visit or you’re a familiar face\, The Hanbury’s inviting atmosphere ensures each moment is steeped in camaraderie and good times. From mouthwatering bites to a fantastic selection of drinks\, we’re proud to embody the values of a traditional pub\, inviting you to savour the authentic charm that makes us unique. \nJoin us and be part of The Hanbury’s living legacy. \nThursday night – Quizzing at its finest hosted by the irrepressible Peter. \n
URL:https://www.weeklyquiz.co.uk/event/the-hanbury/2026-04-30/
LOCATION:The Hanbury\, 33 Linton Street\, London\, N1 7DU\, United Kingdom
GEO:51.5361172;-0.0959476
X-APPLE-STRUCTURED-LOCATION;VALUE=URI;X-ADDRESS=The Hanbury 33 Linton Street London N1 7DU United Kingdom;X-APPLE-RADIUS=500;X-TITLE=33 Linton Street:geo:-0.0959476,51.5361172
CATEGORIES:Thursday Night Pub Quiz
ATTACH;FMTTYPE=image/jpeg:https://www.weeklyquiz.co.uk/wp-content/uploads/2025/06/hanbury.jpg
END:VEVENT
END:VCALENDAR