BEGIN:VCALENDAR
VERSION:2.0
PRODID:-//Weekly Quiz - ECPv4.6.23//NONSGML v1.0//EN
CALSCALE:GREGORIAN
METHOD:PUBLISH
X-WR-CALNAME:Weekly Quiz
X-ORIGINAL-URL:https://www.weeklyquiz.co.uk
X-WR-CALDESC:Events for Weekly Quiz
BEGIN:VEVENT
DTSTART;TZID=Europe/London:20260505T200000
DTEND;TZID=Europe/London:20260505T220000
DTSTAMP:20260421T095059
CREATED:20250501T143127Z
LAST-MODIFIED:20250501T143127Z
UID:103261-1778011200-1778018400@www.weeklyquiz.co.uk
SUMMARY:The Castle Inn
DESCRIPTION:A lovely village inn. Located 5 miles from Harrogate in Spofforth. Expect great\, freshly made food. \nmake sure you add this one to your calender – hosted by the much in demand comedy superstar Saul every first and third Monday of each month. \n
URL:https://www.weeklyquiz.co.uk/event/the-castle-inn/2026-05-05/
LOCATION:The Castle Inn\, 35 High Street\, Spofforth\,\, North Yorkshire\, HG3 1BQ\, United Kingdom
GEO:53.953556;-1.530357
X-APPLE-STRUCTURED-LOCATION;VALUE=URI;X-ADDRESS=The Castle Inn 35 High Street Spofforth North Yorkshire HG3 1BQ United Kingdom;X-APPLE-RADIUS=500;X-TITLE=35 High Street:geo:-1.530357,53.953556
CATEGORIES:Monday Night Pub Quiz
ATTACH;FMTTYPE=image/jpeg:https://www.weeklyquiz.co.uk/wp-content/uploads/2025/05/castle-inn.jpg
END:VEVENT
END:VCALENDAR