BEGIN:VCALENDAR
VERSION:2.0
PRODID:-//Weekly Quiz - ECPv4.6.23//NONSGML v1.0//EN
CALSCALE:GREGORIAN
METHOD:PUBLISH
X-WR-CALNAME:Weekly Quiz
X-ORIGINAL-URL:https://www.weeklyquiz.co.uk
X-WR-CALDESC:Events for Weekly Quiz
BEGIN:VEVENT
DTSTART;TZID=Europe/London:20260415T200000
DTEND;TZID=Europe/London:20260415T220000
DTSTAMP:20260421T082555
CREATED:20250511T124816Z
LAST-MODIFIED:20250511T124816Z
UID:102815-1776283200-1776290400@www.weeklyquiz.co.uk
SUMMARY:The Ascott
DESCRIPTION:About The Ascott\, Pinner\nTop-notch amenities to make sure you have a great time. \nWatch live sport with us\nUnbeatable pub atmosphere. Right from the pre-match meet ups to settle those nerves\, to the post-game analysis of where it all went wrong. \nGet your thinking caps on and get ready for Wednesday night Quiz. £2 per person and half the winnings go to Macmillan. \n
URL:https://www.weeklyquiz.co.uk/event/the-ascott/2026-04-15/
LOCATION:The Ascott\, 144 Field End Road\, Eastcote\, Pinner\, HA5 1RJ\, United Kingdom
GEO:51.5789162;-0.4822907
X-APPLE-STRUCTURED-LOCATION;VALUE=URI;X-ADDRESS=The Ascott 144 Field End Road Eastcote Pinner HA5 1RJ United Kingdom;X-APPLE-RADIUS=500;X-TITLE=144 Field End Road:geo:-0.4822907,51.5789162
CATEGORIES:Wednesday Night Pub Quiz
ATTACH;FMTTYPE=image/jpeg:https://www.weeklyquiz.co.uk/wp-content/uploads/2025/05/ascott-eastcote-1.jpg
END:VEVENT
END:VCALENDAR