BEGIN:VCALENDAR
VERSION:2.0
PRODID:-//Weekly Quiz - ECPv4.6.23//NONSGML v1.0//EN
CALSCALE:GREGORIAN
METHOD:PUBLISH
X-WR-CALNAME:Weekly Quiz
X-ORIGINAL-URL:https://www.weeklyquiz.co.uk
X-WR-CALDESC:Events for Weekly Quiz
BEGIN:VEVENT
DTSTART;TZID=Europe/London:20260415T200000
DTEND;TZID=Europe/London:20260415T220000
DTSTAMP:20260420T122820
CREATED:20250517T230310Z
LAST-MODIFIED:20250517T230310Z
UID:102828-1776283200-1776290400@www.weeklyquiz.co.uk
SUMMARY:TGI Fridays - Norwich
DESCRIPTION:That TGI Fridays Feeling!\n\nOur teams are looking forward to welcoming you to our restaurants where you can socialise\, have fun & make memories. Whether you’re out for a date\, girls night or a family dinner\, TGI Fridays will bring you that Fridays Feeling\, no matter what day of the week or time of day. \nCocktail Flair\n\nWe’ve got long history behind the bar\, TGI Fridays bartenders even trained Tom Cruise for his role in the film ‘Cocktail’! Made with premium spirits\, our cocktails are handcrafted by our expert bartenders who can recommend the perfect serve just for you\, including the icons like the classic Long Island Iced Tea\, which was born at TGI Fridays. We also have a great range of mocktails for a refreshing alternative. \nJoin us every other Wednesday for a great night of quizzing with big prizes\, meal deals and FREE entry (or in keeping with the American Coctail bar theme a “trivia night”). \n\n\n
URL:https://www.weeklyquiz.co.uk/event/tgi-fridays-norwich/2026-04-15/
CATEGORIES:Wednesday Night Pub Quiz
ATTACH;FMTTYPE=image/jpeg:https://www.weeklyquiz.co.uk/wp-content/uploads/2025/05/tgi-norwich.jpg
END:VEVENT
END:VCALENDAR